Workbook

Sheet Permissions
C1: Environments
D2: QA | J2: UAT | P2: PROD
D4: Doc_Mgr_Bus_Admin | E4: Doc_Mgr_Bus_Edit | F4: Doc_Mgr_Bus_View_Only | G4: Doc_Mgr_IT_Admin | H4: QA_Testing | J4: Doc_Mgr_Bus_Admin | K4: Doc_Mgr_Bus_Edit | L4: Doc_Mgr_Bus_View_Only | M4: Doc_Mgr_IT_Admin | N4: QA_Testing | P4: Doc_Mgr_Bus_Admin | Q4: Doc_Mgr_Bus_Edit | R4: Doc_Mgr_Bus_View_Only | S4: Doc_Mgr_IT_Admin | T4: QA_Testing
A5: Page / Application | B5: Variable
A6: DocumentLookup | B6: View | G6: x | H6: x | J6: x | K6: x | L6: x | M6: x | P6: x | Q6: x | R6: x
B7: Download | G7: x | H7: x | J7: x | K7: x | L7: x | M7: x | P7: x | Q7: x | R7: x
B8: EditVisibility | G8: x | H8: x | J8: x | K8: x | M8: x | P8: x | Q8: x
B9: ShowDocumentId | G9: x | H9: x | M9: x
A11: DocCodeDetails | B11: View | G11: x | H11: x | J11: x | M11: x | P11: x | S11: x
B12: Create | G12: x | H12: x | M12: x | S12: x
B13: Edit | G13: x | H13: x | J13: x | M13: x | P13: x | S13: x
A15: ReprocessingTable | B15: View | G15: x | H15: x | J15: x | M15: x | S15: x
B16: AssignPrimaryOwner | G16: x | H16: x | J16: x | M16: x | S16: x
B17: OpenDocument | G17: x | H17: x | J17: x | M17: x | S17: x
A19: ITReprocessingTable | B19: View | G19: x | H19: x | M19: x | S19: x
B20: Reprocess | G20: x | H20: x | M20: x | S20: x
A22: DocumentTypeRetriever | B22: ITRole | G22: x | H22: x | M22: x | S22: x
B23: QCRole | G23: x | H23: x | J23: x | M23: x | P23: x | S23: x
A25: DocumentTypeUploader | B25: ITRole | G25: x | H25: x | M25: x | S25: x

Sheet Variable Values
A1: Page / Application | B1: Variable Name | C1: QA | D1: UAT | E1: PROD
A2: DocumentLookup | B2: =IF(ISTEXT(Permissions!A$6), _xlfn.CONCAT("Security.AccessPolicies.",Permissions!A$6,IF(Permissions!B6 = "View", "", _xlfn.CONCAT(".", Permissions!B6)),".Groups"), "") -> Security.AccessPolicies.DocumentLookup.Groups | C2: =LEFT(_xlfn.CONCAT(IF(ISTEXT(Permissions!D6), _xlfn.CONCAT(Permissions!D$4, ","), ""), IF(ISTEXT(Permissions!E6), _xlfn.CONCAT(Permissions!E$4, ","), ""),IF(ISTEXT(Permissions!F6), _xlfn.CONCAT(Permissions!F$4, ","), ""),IF(ISTEXT(Permissions!G6), _xlfn.CONCAT(Permissions!G$4, ","), ""),IF(ISTEXT(Permissions!H6), _xlfn.CONCAT(Permissions!H$4, ","), "")), LEN(_xlfn.CONCAT(IF(ISTEXT(Permissions!D6), _xlfn.CONCAT(Permissions!D$4, ","), ""), IF(ISTEXT(Permissions!E6), _xlfn.CONCAT(Permissions!E$4, ","), ""),IF(ISTEXT(Permissions!F6), _xlfn.CONCAT(Permissions!F$4, ","), ""),IF(ISTEXT(Permissions!G6), _xlfn.CONCAT(Permissions!G$4, ","), ""),IF(ISTEXT(Permissions!H6), _xlfn.CONCAT(Permissions!H$4, ","), ""))) - 1) -> Doc_Mgr_IT_Admin,QA_Testing | D2: =LEFT(_xlfn.CONCAT(IF(ISTEXT(Permissions!J6), _xlfn.CONCAT(Permissions!J$4, ","), ""), IF(ISTEXT(Permissions!K6), _xlfn.CONCAT(Permissions!K$4, ","), ""),IF(ISTEXT(Permissions!L6), _xlfn.CONCAT(Permissions!L$4, ","), ""),IF(ISTEXT(Permissions!M6), _xlfn.CONCAT(Permissions!M$4, ","), ""),IF(ISTEXT(Permissions!N6), _xlfn.CONCAT(Permissions!N$4, ","), "")), LEN(_xlfn.CONCAT(IF(ISTEXT(Permissions!J6), _xlfn.CONCAT(Permissions!J$4, ","), ""), IF(ISTEXT(Permissions!K6), _xlfn.CONCAT(Permissions!K$4, ","), ""),IF(ISTEXT(Permissions!L6), _xlfn.CONCAT(Permissions!L$4, ","), ""),IF(ISTEXT(Permissions!M6), _xlfn.CONCAT(Permissions!M$4, ","), ""),IF(ISTEXT(Permissions!N6), _xlfn.CONCAT(Permissions!N$4, ","), ""))) - 1) -> Doc_Mgr_Bus_Admin,Doc_Mgr_Bus_Edit,Doc_Mgr_Bus_View_Only,Doc_Mgr_IT_Admin | E2: =LEFT(_xlfn.CONCAT(IF(ISTEXT(Permissions!P6), _xlfn.CONCAT(Permissions!P$4, ","), ""), IF(ISTEXT(Permissions!Q6), _xlfn.CONCAT(Permissions!Q$4, ","), ""),IF(ISTEXT(Permissions!R6), _xlfn.CONCAT(Permissions!R$4, ","), ""),IF(ISTEXT(Permissions!S6), _xlfn.CONCAT(Permissions!S$4, ","), ""),IF(ISTEXT(Permissions!T6), _xlfn.CONCAT(Permissions!T$4, ","), "")), LEN(_xlfn.CONCAT(IF(ISTEXT(Permissions!P6), _xlfn.CONCAT(Permissions!P$4, ","), ""), IF(ISTEXT(Permissions!Q6), _xlfn.CONCAT(Permissions!Q$4, ","), ""),IF(ISTEXT(Permissions!R6), _xlfn.CONCAT(Permissions!R$4, ","), ""),IF(ISTEXT(Permissions!S6), _xlfn.CONCAT(Permissions!S$4, ","), ""),IF(ISTEXT(Permissions!T6), _xlfn.CONCAT(Permissions!T$4, ","), ""))) - 1) -> Doc_Mgr_Bus_Admin,Doc_Mgr_Bus_Edit,Doc_Mgr_Bus_View_Only
B3: =IF(ISTEXT(Permissions!A$6), _xlfn.CONCAT("Security.AccessPolicies.",Permissions!A$6,IF(Permissions!B7 = "View", "", _xlfn.CONCAT(".", Permissions!B7)),".Groups"), "") -> Security.AccessPolicies.DocumentLookup.Download.Groups | C3: =LEFT(_xlfn.CONCAT(IF(ISTEXT(Permissions!D7), _xlfn.CONCAT(Permissions!D$4, ","), ""), IF(ISTEXT(Permissions!E7), _xlfn.CONCAT(Permissions!E$4, ","), ""),IF(ISTEXT(Permissions!F7), _xlfn.CONCAT(Permissions!F$4, ","), ""),IF(ISTEXT(Permissions!G7), _xlfn.CONCAT(Permissions!G$4, ","), ""),IF(ISTEXT(Permissions!H7), _xlfn.CONCAT(Permissions!H$4, ","), "")), LEN(_xlfn.CONCAT(IF(ISTEXT(Permissions!D7), _xlfn.CONCAT(Permissions!D$4, ","), ""), IF(ISTEXT(Permissions!E7), _xlfn.CONCAT(Permissions!E$4, ","), ""),IF(ISTEXT(Permissions!F7), _xlfn.CONCAT(Permissions!F$4, ","), ""),IF(ISTEXT(Permissions!G7), _xlfn.CONCAT(Permissions!G$4, ","), ""),IF(ISTEXT(Permissions!H7), _xlfn.CONCAT(Permissions!H$4, ","), ""))) - 1) -> Doc_Mgr_IT_Admin,QA_Testing | D3: =LEFT(_xlfn.CONCAT(IF(ISTEXT(Permissions!J7), _xlfn.CONCAT(Permissions!J$4, ","), ""), IF(ISTEXT(Permissions!K7), _xlfn.CONCAT(Permissions!K$4, ","), ""),IF(ISTEXT(Permissions!L7), _xlfn.CONCAT(Permissions!L$4, ","), ""),IF(ISTEXT(Permissions!M7), _xlfn.CONCAT(Permissions!M$4, ","), ""),IF(ISTEXT(Permissions!N7), _xlfn.CONCAT(Permissions!N$4, ","), "")), LEN(_xlfn.CONCAT(IF(ISTEXT(Permissions!J7), _xlfn.CONCAT(Permissions!J$4, ","), ""), IF(ISTEXT(Permissions!K7), _xlfn.CONCAT(Permissions!K$4, ","), ""),IF(ISTEXT(Permissions!L7), _xlfn.CONCAT(Permissions!L$4, ","), ""),IF(ISTEXT(Permissions!M7), _xlfn.CONCAT(Permissions!M$4, ","), ""),IF(ISTEXT(Permissions!N7), _xlfn.CONCAT(Permissions!N$4, ","), ""))) - 1) -> Doc_Mgr_Bus_Admin,Doc_Mgr_Bus_Edit,Doc_Mgr_Bus_View_Only,Doc_Mgr_IT_Admin | E3: =LEFT(_xlfn.CONCAT(IF(ISTEXT(Permissions!P7), _xlfn.CONCAT(Permissions!P$4, ","), ""), IF(ISTEXT(Permissions!Q7), _xlfn.CONCAT(Permissions!Q$4, ","), ""),IF(ISTEXT(Permissions!R7), _xlfn.CONCAT(Permissions!R$4, ","), ""),IF(ISTEXT(Permissions!S7), _xlfn.CONCAT(Permissions!S$4, ","), ""),IF(ISTEXT(Permissions!T7), _xlfn.CONCAT(Permissions!T$4, ","), "")), LEN(_xlfn.CONCAT(IF(ISTEXT(Permissions!P7), _xlfn.CONCAT(Permissions!P$4, ","), ""), IF(ISTEXT(Permissions!Q7), _xlfn.CONCAT(Permissions!Q$4, ","), ""),IF(ISTEXT(Permissions!R7), _xlfn.CONCAT(Permissions!R$4, ","), ""),IF(ISTEXT(Permissions!S7), _xlfn.CONCAT(Permissions!S$4, ","), ""),IF(ISTEXT(Permissions!T7), _xlfn.CONCAT(Permissions!T$4, ","), ""))) - 1) -> Doc_Mgr_Bus_Admin,Doc_Mgr_Bus_Edit,Doc_Mgr_Bus_View_Only
B4: =IF(ISTEXT(Permissions!A$6), _xlfn.CONCAT("Security.AccessPolicies.",Permissions!A$6,IF(Permissions!B8 = "View", "", _xlfn.CONCAT(".", Permissions!B8)),".Groups"), "") -> Security.AccessPolicies.DocumentLookup.EditVisibility.Groups | C4: =LEFT(_xlfn.CONCAT(IF(ISTEXT(Permissions!D8), _xlfn.CONCAT(Permissions!D$4, ","), ""), IF(ISTEXT(Permissions!E8), _xlfn.CONCAT(Permissions!E$4, ","), ""),IF(ISTEXT(Permissions!F8), _xlfn.CONCAT(Permissions!F$4, ","), ""),IF(ISTEXT(Permissions!G8), _xlfn.CONCAT(Permissions!G$4, ","), ""),IF(ISTEXT(Permissions!H8), _xlfn.CONCAT(Permissions!H$4, ","), "")), LEN(_xlfn.CONCAT(IF(ISTEXT(Permissions!D8), _xlfn.CONCAT(Permissions!D$4, ","), ""), IF(ISTEXT(Permissions!E8), _xlfn.CONCAT(Permissions!E$4, ","), ""),IF(ISTEXT(Permissions!F8), _xlfn.CONCAT(Permissions!F$4, ","), ""),IF(ISTEXT(Permissions!G8), _xlfn.CONCAT(Permissions!G$4, ","), ""),IF(ISTEXT(Permissions!H8), _xlfn.CONCAT(Permissions!H$4, ","), ""))) - 1) -> Doc_Mgr_IT_Admin,QA_Testing | D4: =LEFT(_xlfn.CONCAT(IF(ISTEXT(Permissions!J8), _xlfn.CONCAT(Permissions!J$4, ","), ""), IF(ISTEXT(Permissions!K8), _xlfn.CONCAT(Permissions!K$4, ","), ""),IF(ISTEXT(Permissions!L8), _xlfn.CONCAT(Permissions!L$4, ","), ""),IF(ISTEXT(Permissions!M8), _xlfn.CONCAT(Permissions!M$4, ","), ""),IF(ISTEXT(Permissions!N8), _xlfn.CONCAT(Permissions!N$4, ","), "")), LEN(_xlfn.CONCAT(IF(ISTEXT(Permissions!J8), _xlfn.CONCAT(Permissions!J$4, ","), ""), IF(ISTEXT(Permissions!K8), _xlfn.CONCAT(Permissions!K$4, ","), ""),IF(ISTEXT(Permissions!L8), _xlfn.CONCAT(Permissions!L$4, ","), ""),IF(ISTEXT(Permissions!M8), _xlfn.CONCAT(Permissions!M$4, ","), ""),IF(ISTEXT(Permissions!N8), _xlfn.CONCAT(Permissions!N$4, ","), ""))) - 1) -> Doc_Mgr_Bus_Admin,Doc_Mgr_Bus_Edit,Doc_Mgr_IT_Admin | E4: =LEFT(_xlfn.CONCAT(IF(ISTEXT(Permissions!P8), _xlfn.CONCAT(Permissions!P$4, ","), ""), IF(ISTEXT(Permissions!Q8), _xlfn.CONCAT(Permissions!Q$4, ","), ""),IF(ISTEXT(Permissions!R8), _xlfn.CONCAT(Permissions!R$4, ","), ""),IF(ISTEXT(Permissions!S8), _xlfn.CONCAT(Permissions!S$4, ","), ""),IF(ISTEXT(Permissions!T8), _xlfn.CONCAT(Permissions!T$4, ","), "")), LEN(_xlfn.CONCAT(IF(ISTEXT(Permissions!P8), _xlfn.CONCAT(Permissions!P$4, ","), ""), IF(ISTEXT(Permissions!Q8), _xlfn.CONCAT(Permissions!Q$4, ","), ""),IF(ISTEXT(Permissions!R8), _xlfn.CONCAT(Permissions!R$4, ","), ""),IF(ISTEXT(Permissions!S8), _xlfn.CONCAT(Permissions!S$4, ","), ""),IF(ISTEXT(Permissions!T8), _xlfn.CONCAT(Permissions!T$4, ","), ""))) - 1) -> Doc_Mgr_Bus_Admin,Doc_Mgr_Bus_Edit
B5: =IF(ISTEXT(Permissions!A$6), _xlfn.CONCAT("Security.AccessPolicies.",Permissions!A$6,IF(Permissions!B9 = "View", "", _xlfn.CONCAT(".", Permissions!B9)),".Groups"), "") -> Security.AccessPolicies.DocumentLookup.ShowDocumentId.Groups | C5: =LEFT(_xlfn.CONCAT(IF(ISTEXT(Permissions!D9), _xlfn.CONCAT(Permissions!D$4, ","), ""), IF(ISTEXT(Permissions!E9), _xlfn.CONCAT(Permissions!E$4, ","), ""),IF(ISTEXT(Permissions!F9), _xlfn.CONCAT(Permissions!F$4, ","), ""),IF(ISTEXT(Permissions!G9), _xlfn.CONCAT(Permissions!G$4, ","), ""),IF(ISTEXT(Permissions!H9), _xlfn.CONCAT(Permissions!H$4, ","), "")), LEN(_xlfn.CONCAT(IF(ISTEXT(Permissions!D9), _xlfn.CONCAT(Permissions!D$4, ","), ""), IF(ISTEXT(Permissions!E9), _xlfn.CONCAT(Permissions!E$4, ","), ""),IF(ISTEXT(Permissions!F9), _xlfn.CONCAT(Permissions!F$4, ","), ""),IF(ISTEXT(Permissions!G9), _xlfn.CONCAT(Permissions!G$4, ","), ""),IF(ISTEXT(Permissions!H9), _xlfn.CONCAT(Permissions!H$4, ","), ""))) - 1) -> Doc_Mgr_IT_Admin,QA_Testing | D5: =LEFT(_xlfn.CONCAT(IF(ISTEXT(Permissions!J9), _xlfn.CONCAT(Permissions!J$4, ","), ""), IF(ISTEXT(Permissions!K9), _xlfn.CONCAT(Permissions!K$4, ","), ""),IF(ISTEXT(Permissions!L9), _xlfn.CONCAT(Permissions!L$4, ","), ""),IF(ISTEXT(Permissions!M9), _xlfn.CONCAT(Permissions!M$4, ","), ""),IF(ISTEXT(Permissions!N9), _xlfn.CONCAT(Permissions!N$4, ","), "")), LEN(_xlfn.CONCAT(IF(ISTEXT(Permissions!J9), _xlfn.CONCAT(Permissions!J$4, ","), ""), IF(ISTEXT(Permissions!K9), _xlfn.CONCAT(Permissions!K$4, ","), ""),IF(ISTEXT(Permissions!L9), _xlfn.CONCAT(Permissions!L$4, ","), ""),IF(ISTEXT(Permissions!M9), _xlfn.CONCAT(Permissions!M$4, ","), ""),IF(ISTEXT(Permissions!N9), _xlfn.CONCAT(Permissions!N$4, ","), ""))) - 1) -> Doc_Mgr_IT_Admin | E5: =LEFT(_xlfn.CONCAT(IF(ISTEXT(Permissions!P9), _xlfn.CONCAT(Permissions!P$4, ","), ""), IF(ISTEXT(Permissions!Q9), _xlfn.CONCAT(Permissions!Q$4, ","), ""),IF(ISTEXT(Permissions!R9), _xlfn.CONCAT(Permissions!R$4, ","), ""),IF(ISTEXT(Permissions!S9), _xlfn.CONCAT(Permissions!S$4, ","), ""),IF(ISTEXT(Permissions!T9), _xlfn.CONCAT(Permissions!T$4, ","), "")), LEN(_xlfn.CONCAT(IF(ISTEXT(Permissions!P9), _xlfn.CONCAT(Permissions!P$4, ","), ""), IF(ISTEXT(Permissions!Q9), _xlfn.CONCAT(Permissions!Q$4, ","), ""),IF(ISTEXT(Permissions!R9), _xlfn.CONCAT(Permissions!R$4, ","), ""),IF(ISTEXT(Permissions!S9), _xlfn.CONCAT(Permissions!S$4, ","), ""),IF(ISTEXT(Permissions!T9), _xlfn.CONCAT(Permissions!T$4, ","), ""))) - 1) -> #VALUE!
A7: DocCodeDetails | B7: =IF(ISTEXT(Permissions!A$11), _xlfn.CONCAT("Security.AccessPolicies.",Permissions!A$11,IF(Permissions!B11 = "View", "", _xlfn.CONCAT(".", Permissions!B11)),".Groups"), "") -> Security.AccessPolicies.DocCodeDetails.Groups | C7: =LEFT(_xlfn.CONCAT(IF(ISTEXT(Permissions!D11), _xlfn.CONCAT(Permissions!D$4, ","), ""), IF(ISTEXT(Permissions!E11), _xlfn.CONCAT(Permissions!E$4, ","), ""),IF(ISTEXT(Permissions!F11), _xlfn.CONCAT(Permissions!F$4, ","), ""),IF(ISTEXT(Permissions!G11), _xlfn.CONCAT(Permissions!G$4, ","), ""),IF(ISTEXT(Permissions!H11), _xlfn.CONCAT(Permissions!H$4, ","), "")), LEN(_xlfn.CONCAT(IF(ISTEXT(Permissions!D11), _xlfn.CONCAT(Permissions!D$4, ","), ""), IF(ISTEXT(Permissions!E11), _xlfn.CONCAT(Permissions!E$4, ","), ""),IF(ISTEXT(Permissions!F11), _xlfn.CONCAT(Permissions!F$4, ","), ""),IF(ISTEXT(Permissions!G11), _xlfn.CONCAT(Permissions!G$4, ","), ""),IF(ISTEXT(Permissions!H11), _xlfn.CONCAT(Permissions!H$4, ","), ""))) - 1) -> Doc_Mgr_IT_Admin,QA_Testing | D7: =LEFT(_xlfn.CONCAT(IF(ISTEXT(Permissions!J11), _xlfn.CONCAT(Permissions!J$4, ","), ""), IF(ISTEXT(Permissions!K11), _xlfn.CONCAT(Permissions!K$4, ","), ""),IF(ISTEXT(Permissions!L11), _xlfn.CONCAT(Permissions!L$4, ","), ""),IF(ISTEXT(Permissions!M11), _xlfn.CONCAT(Permissions!M$4, ","), ""),IF(ISTEXT(Permissions!N11), _xlfn.CONCAT(Permissions!N$4, ","), "")), LEN(_xlfn.CONCAT(IF(ISTEXT(Permissions!J11), _xlfn.CONCAT(Permissions!J$4, ","), ""), IF(ISTEXT(Permissions!K11), _xlfn.CONCAT(Permissions!K$4, ","), ""),IF(ISTEXT(Permissions!L11), _xlfn.CONCAT(Permissions!L$4, ","), ""),IF(ISTEXT(Permissions!M11), _xlfn.CONCAT(Permissions!M$4, ","), ""),IF(ISTEXT(Permissions!N11), _xlfn.CONCAT(Permissions!N$4, ","), ""))) - 1) -> Doc_Mgr_Bus_Admin,Doc_Mgr_IT_Admin | E7: =LEFT(_xlfn.CONCAT(IF(ISTEXT(Permissions!P11), _xlfn.CONCAT(Permissions!P$4, ","), ""), IF(ISTEXT(Permissions!Q11), _xlfn.CONCAT(Permissions!Q$4, ","), ""),IF(ISTEXT(Permissions!R11), _xlfn.CONCAT(Permissions!R$4, ","), ""),IF(ISTEXT(Permissions!S11), _xlfn.CONCAT(Permissions!S$4, ","), ""),IF(ISTEXT(Permissions!T11), _xlfn.CONCAT(Permissions!T$4, ","), "")), LEN(_xlfn.CONCAT(IF(ISTEXT(Permissions!P11), _xlfn.CONCAT(Permissions!P$4, ","), ""), IF(ISTEXT(Permissions!Q11), _xlfn.CONCAT(Permissions!Q$4, ","), ""),IF(ISTEXT(Permissions!R11), _xlfn.CONCAT(Permissions!R$4, ","), ""),IF(ISTEXT(Permissions!S11), _xlfn.CONCAT(Permissions!S$4, ","), ""),IF(ISTEXT(Permissions!T11), _xlfn.CONCAT(Permissions!T$4, ","), ""))) - 1) -> Doc_Mgr_Bus_Admin,Doc_Mgr_IT_Admin
B8: =IF(ISTEXT(Permissions!A$11), _xlfn.CONCAT("Security.AccessPolicies.",Permissions!A$11,IF(Permissions!B12 = "View", "", _xlfn.CONCAT(".", Permissions!B12)),".Groups"), "") -> Security.AccessPolicies.DocCodeDetails.Create.Groups | C8: =LEFT(_xlfn.CONCAT(IF(ISTEXT(Permissions!D12), _xlfn.CONCAT(Permissions!D$4, ","), ""), IF(ISTEXT(Permissions!E12), _xlfn.CONCAT(Permissions!E$4, ","), ""),IF(ISTEXT(Permissions!F12), _xlfn.CONCAT(Permissions!F$4, ","), ""),IF(ISTEXT(Permissions!G12), _xlfn.CONCAT(Permissions!G$4, ","), ""),IF(ISTEXT(Permissions!H12), _xlfn.CONCAT(Permissions!H$4, ","), "")), LEN(_xlfn.CONCAT(IF(ISTEXT(Permissions!D12), _xlfn.CONCAT(Permissions!D$4, ","), ""), IF(ISTEXT(Permissions!E12), _xlfn.CONCAT(Permissions!E$4, ","), ""),IF(ISTEXT(Permissions!F12), _xlfn.CONCAT(Permissions!F$4, ","), ""),IF(ISTEXT(Permissions!G12), _xlfn.CONCAT(Permissions!G$4, ","), ""),IF(ISTEXT(Permissions!H12), _xlfn.CONCAT(Permissions!H$4, ","), ""))) - 1) -> Doc_Mgr_IT_Admin,QA_Testing | D8: =LEFT(_xlfn.CONCAT(IF(ISTEXT(Permissions!J12), _xlfn.CONCAT(Permissions!J$4, ","), ""), IF(ISTEXT(Permissions!K12), _xlfn.CONCAT(Permissions!K$4, ","), ""),IF(ISTEXT(Permissions!L12), _xlfn.CONCAT(Permissions!L$4, ","), ""),IF(ISTEXT(Permissions!M12), _xlfn.CONCAT(Permissions!M$4, ","), ""),IF(ISTEXT(Permissions!N12), _xlfn.CONCAT(Permissions!N$4, ","), "")), LEN(_xlfn.CONCAT(IF(ISTEXT(Permissions!J12), _xlfn.CONCAT(Permissions!J$4, ","), ""), IF(ISTEXT(Permissions!K12), _xlfn.CONCAT(Permissions!K$4, ","), ""),IF(ISTEXT(Permissions!L12), _xlfn.CONCAT(Permissions!L$4, ","), ""),IF(ISTEXT(Permissions!M12), _xlfn.CONCAT(Permissions!M$4, ","), ""),IF(ISTEXT(Permissions!N12), _xlfn.CONCAT(Permissions!N$4, ","), ""))) - 1) -> Doc_Mgr_IT_Admin | E8: =LEFT(_xlfn.CONCAT(IF(ISTEXT(Permissions!P12), _xlfn.CONCAT(Permissions!P$4, ","), ""), IF(ISTEXT(Permissions!Q12), _xlfn.CONCAT(Permissions!Q$4, ","), ""),IF(ISTEXT(Permissions!R12), _xlfn.CONCAT(Permissions!R$4, ","), ""),IF(ISTEXT(Permissions!S12), _xlfn.CONCAT(Permissions!S$4, ","), ""),IF(ISTEXT(Permissions!T12), _xlfn.CONCAT(Permissions!T$4, ","), "")), LEN(_xlfn.CONCAT(IF(ISTEXT(Permissions!P12), _xlfn.CONCAT(Permissions!P$4, ","), ""), IF(ISTEXT(Permissions!Q12), _xlfn.CONCAT(Permissions!Q$4, ","), ""),IF(ISTEXT(Permissions!R12), _xlfn.CONCAT(Permissions!R$4, ","), ""),IF(ISTEXT(Permissions!S12), _xlfn.CONCAT(Permissions!S$4, ","), ""),IF(ISTEXT(Permissions!T12), _xlfn.CONCAT(Permissions!T$4, ","), ""))) - 1) -> Doc_Mgr_IT_Admin
B9: =IF(ISTEXT(Permissions!A$11), _xlfn.CONCAT("Security.AccessPolicies.",Permissions!A$11,IF(Permissions!B13 = "View", "", _xlfn.CONCAT(".", Permissions!B13)),".Groups"), "") -> Security.AccessPolicies.DocCodeDetails.Edit.Groups | C9: =LEFT(_xlfn.CONCAT(IF(ISTEXT(Permissions!D13), _xlfn.CONCAT(Permissions!D$4, ","), ""), IF(ISTEXT(Permissions!E13), _xlfn.CONCAT(Permissions!E$4, ","), ""),IF(ISTEXT(Permissions!F13), _xlfn.CONCAT(Permissions!F$4, ","), ""),IF(ISTEXT(Permissions!G13), _xlfn.CONCAT(Permissions!G$4, ","), ""),IF(ISTEXT(Permissions!H13), _xlfn.CONCAT(Permissions!H$4, ","), "")), LEN(_xlfn.CONCAT(IF(ISTEXT(Permissions!D13), _xlfn.CONCAT(Permissions!D$4, ","), ""), IF(ISTEXT(Permissions!E13), _xlfn.CONCAT(Permissions!E$4, ","), ""),IF(ISTEXT(Permissions!F13), _xlfn.CONCAT(Permissions!F$4, ","), ""),IF(ISTEXT(Permissions!G13), _xlfn.CONCAT(Permissions!G$4, ","), ""),IF(ISTEXT(Permissions!H13), _xlfn.CONCAT(Permissions!H$4, ","), ""))) - 1) -> Doc_Mgr_IT_Admin,QA_Testing | D9: =LEFT(_xlfn.CONCAT(IF(ISTEXT(Permissions!J13), _xlfn.CONCAT(Permissions!J$4, ","), ""), IF(ISTEXT(Permissions!K13), _xlfn.CONCAT(Permissions!K$4, ","), ""),IF(ISTEXT(Permissions!L13), _xlfn.CONCAT(Permissions!L$4, ","), ""),IF(ISTEXT(Permissions!M13), _xlfn.CONCAT(Permissions!M$4, ","), ""),IF(ISTEXT(Permissions!N13), _xlfn.CONCAT(Permissions!N$4, ","), "")), LEN(_xlfn.CONCAT(IF(ISTEXT(Permissions!J13), _xlfn.CONCAT(Permissions!J$4, ","), ""), IF(ISTEXT(Permissions!K13), _xlfn.CONCAT(Permissions!K$4, ","), ""),IF(ISTEXT(Permissions!L13), _xlfn.CONCAT(Permissions!L$4, ","), ""),IF(ISTEXT(Permissions!M13), _xlfn.CONCAT(Permissions!M$4, ","), ""),IF(ISTEXT(Permissions!N13), _xlfn.CONCAT(Permissions!N$4, ","), ""))) - 1) -> Doc_Mgr_Bus_Admin,Doc_Mgr_IT_Admin | E9: =LEFT(_xlfn.CONCAT(IF(ISTEXT(Permissions!P13), _xlfn.CONCAT(Permissions!P$4, ","), ""), IF(ISTEXT(Permissions!Q13), _xlfn.CONCAT(Permissions!Q$4, ","), ""),IF(ISTEXT(Permissions!R13), _xlfn.CONCAT(Permissions!R$4, ","), ""),IF(ISTEXT(Permissions!S13), _xlfn.CONCAT(Permissions!S$4, ","), ""),IF(ISTEXT(Permissions!T13), _xlfn.CONCAT(Permissions!T$4, ","), "")), LEN(_xlfn.CONCAT(IF(ISTEXT(Permissions!P13), _xlfn.CONCAT(Permissions!P$4, ","), ""), IF(ISTEXT(Permissions!Q13), _xlfn.CONCAT(Permissions!Q$4, ","), ""),IF(ISTEXT(Permissions!R13), _xlfn.CONCAT(Permissions!R$4, ","), ""),IF(ISTEXT(Permissions!S13), _xlfn.CONCAT(Permissions!S$4, ","), ""),IF(ISTEXT(Permissions!T13), _xlfn.CONCAT(Permissions!T$4, ","), ""))) - 1) -> Doc_Mgr_Bus_Admin,Doc_Mgr_IT_Admin
A11: ReprocessingTable | B11: =IF(ISTEXT(Permissions!A$15), _xlfn.CONCAT("Security.AccessPolicies.",Permissions!A$15,IF(Permissions!B15 = "View", "", _xlfn.CONCAT(".", Permissions!B15)),".Groups"), "") -> Security.AccessPolicies.ReprocessingTable.Groups | C11: =LEFT(_xlfn.CONCAT(IF(ISTEXT(Permissions!D15), _xlfn.CONCAT(Permissions!D$4, ","), ""), IF(ISTEXT(Permissions!E15), _xlfn.CONCAT(Permissions!E$4, ","), ""),IF(ISTEXT(Permissions!F15), _xlfn.CONCAT(Permissions!F$4, ","), ""),IF(ISTEXT(Permissions!G15), _xlfn.CONCAT(Permissions!G$4, ","), ""),IF(ISTEXT(Permissions!H15), _xlfn.CONCAT(Permissions!H$4, ","), "")), LEN(_xlfn.CONCAT(IF(ISTEXT(Permissions!D15), _xlfn.CONCAT(Permissions!D$4, ","), ""), IF(ISTEXT(Permissions!E15), _xlfn.CONCAT(Permissions!E$4, ","), ""),IF(ISTEXT(Permissions!F15), _xlfn.CONCAT(Permissions!F$4, ","), ""),IF(ISTEXT(Permissions!G15), _xlfn.CONCAT(Permissions!G$4, ","), ""),IF(ISTEXT(Permissions!H15), _xlfn.CONCAT(Permissions!H$4, ","), ""))) - 1) -> Doc_Mgr_IT_Admin,QA_Testing | D11: =LEFT(_xlfn.CONCAT(IF(ISTEXT(Permissions!J15), _xlfn.CONCAT(Permissions!J$4, ","), ""), IF(ISTEXT(Permissions!K15), _xlfn.CONCAT(Permissions!K$4, ","), ""),IF(ISTEXT(Permissions!L15), _xlfn.CONCAT(Permissions!L$4, ","), ""),IF(ISTEXT(Permissions!M15), _xlfn.CONCAT(Permissions!M$4, ","), ""),IF(ISTEXT(Permissions!N15), _xlfn.CONCAT(Permissions!N$4, ","), "")), LEN(_xlfn.CONCAT(IF(ISTEXT(Permissions!J15), _xlfn.CONCAT(Permissions!J$4, ","), ""), IF(ISTEXT(Permissions!K15), _xlfn.CONCAT(Permissions!K$4, ","), ""),IF(ISTEXT(Permissions!L15), _xlfn.CONCAT(Permissions!L$4, ","), ""),IF(ISTEXT(Permissions!M15), _xlfn.CONCAT(Permissions!M$4, ","), ""),IF(ISTEXT(Permissions!N15), _xlfn.CONCAT(Permissions!N$4, ","), ""))) - 1) -> Doc_Mgr_Bus_Admin,Doc_Mgr_IT_Admin | E11: =LEFT(_xlfn.CONCAT(IF(ISTEXT(Permissions!P15), _xlfn.CONCAT(Permissions!P$4, ","), ""), IF(ISTEXT(Permissions!Q15), _xlfn.CONCAT(Permissions!Q$4, ","), ""),IF(ISTEXT(Permissions!R15), _xlfn.CONCAT(Permissions!R$4, ","), ""),IF(ISTEXT(Permissions!S15), _xlfn.CONCAT(Permissions!S$4, ","), ""),IF(ISTEXT(Permissions!T15), _xlfn.CONCAT(Permissions!T$4, ","), "")), LEN(_xlfn.CONCAT(IF(ISTEXT(Permissions!P15), _xlfn.CONCAT(Permissions!P$4, ","), ""), IF(ISTEXT(Permissions!Q15), _xlfn.CONCAT(Permissions!Q$4, ","), ""),IF(ISTEXT(Permissions!R15), _xlfn.CONCAT(Permissions!R$4, ","), ""),IF(ISTEXT(Permissions!S15), _xlfn.CONCAT(Permissions!S$4, ","), ""),IF(ISTEXT(Permissions!T15), _xlfn.CONCAT(Permissions!T$4, ","), ""))) - 1) -> Doc_Mgr_IT_Admin
B12: =IF(ISTEXT(Permissions!A$15), _xlfn.CONCAT("Security.AccessPolicies.",Permissions!A$15,IF(Permissions!B16 = "View", "", _xlfn.CONCAT(".", Permissions!B16)),".Groups"), "") -> Security.AccessPolicies.ReprocessingTable.AssignPrimaryOwner.Groups | C12: =LEFT(_xlfn.CONCAT(IF(ISTEXT(Permissions!D16), _xlfn.CONCAT(Permissions!D$4, ","), ""), IF(ISTEXT(Permissions!E16), _xlfn.CONCAT(Permissions!E$4, ","), ""),IF(ISTEXT(Permissions!F16), _xlfn.CONCAT(Permissions!F$4, ","), ""),IF(ISTEXT(Permissions!G16), _xlfn.CONCAT(Permissions!G$4, ","), ""),IF(ISTEXT(Permissions!H16), _xlfn.CONCAT(Permissions!H$4, ","), "")), LEN(_xlfn.CONCAT(IF(ISTEXT(Permissions!D16), _xlfn.CONCAT(Permissions!D$4, ","), ""), IF(ISTEXT(Permissions!E16), _xlfn.CONCAT(Permissions!E$4, ","), ""),IF(ISTEXT(Permissions!F16), _xlfn.CONCAT(Permissions!F$4, ","), ""),IF(ISTEXT(Permissions!G16), _xlfn.CONCAT(Permissions!G$4, ","), ""),IF(ISTEXT(Permissions!H16), _xlfn.CONCAT(Permissions!H$4, ","), ""))) - 1) -> Doc_Mgr_IT_Admin,QA_Testing | D12: =LEFT(_xlfn.CONCAT(IF(ISTEXT(Permissions!J16), _xlfn.CONCAT(Permissions!J$4, ","), ""), IF(ISTEXT(Permissions!K16), _xlfn.CONCAT(Permissions!K$4, ","), ""),IF(ISTEXT(Permissions!L16), _xlfn.CONCAT(Permissions!L$4, ","), ""),IF(ISTEXT(Permissions!M16), _xlfn.CONCAT(Permissions!M$4, ","), ""),IF(ISTEXT(Permissions!N16), _xlfn.CONCAT(Permissions!N$4, ","), "")), LEN(_xlfn.CONCAT(IF(ISTEXT(Permissions!J16), _xlfn.CONCAT(Permissions!J$4, ","), ""), IF(ISTEXT(Permissions!K16), _xlfn.CONCAT(Permissions!K$4, ","), ""),IF(ISTEXT(Permissions!L16), _xlfn.CONCAT(Permissions!L$4, ","), ""),IF(ISTEXT(Permissions!M16), _xlfn.CONCAT(Permissions!M$4, ","), ""),IF(ISTEXT(Permissions!N16), _xlfn.CONCAT(Permissions!N$4, ","), ""))) - 1) -> Doc_Mgr_Bus_Admin,Doc_Mgr_IT_Admin | E12: =LEFT(_xlfn.CONCAT(IF(ISTEXT(Permissions!P16), _xlfn.CONCAT(Permissions!P$4, ","), ""), IF(ISTEXT(Permissions!Q16), _xlfn.CONCAT(Permissions!Q$4, ","), ""),IF(ISTEXT(Permissions!R16), _xlfn.CONCAT(Permissions!R$4, ","), ""),IF(ISTEXT(Permissions!S16), _xlfn.CONCAT(Permissions!S$4, ","), ""),IF(ISTEXT(Permissions!T16), _xlfn.CONCAT(Permissions!T$4, ","), "")), LEN(_xlfn.CONCAT(IF(ISTEXT(Permissions!P16), _xlfn.CONCAT(Permissions!P$4, ","), ""), IF(ISTEXT(Permissions!Q16), _xlfn.CONCAT(Permissions!Q$4, ","), ""),IF(ISTEXT(Permissions!R16), _xlfn.CONCAT(Permissions!R$4, ","), ""),IF(ISTEXT(Permissions!S16), _xlfn.CONCAT(Permissions!S$4, ","), ""),IF(ISTEXT(Permissions!T16), _xlfn.CONCAT(Permissions!T$4, ","), ""))) - 1) -> Doc_Mgr_IT_Admin
B13: =IF(ISTEXT(Permissions!A$15), _xlfn.CONCAT("Security.AccessPolicies.",Permissions!A$15,IF(Permissions!B17 = "View", "", _xlfn.CONCAT(".", Permissions!B17)),".Groups"), "") -> Security.AccessPolicies.ReprocessingTable.OpenDocument.Groups | C13: =LEFT(_xlfn.CONCAT(IF(ISTEXT(Permissions!D17), _xlfn.CONCAT(Permissions!D$4, ","), ""), IF(ISTEXT(Permissions!E17), _xlfn.CONCAT(Permissions!E$4, ","), ""),IF(ISTEXT(Permissions!F17), _xlfn.CONCAT(Permissions!F$4, ","), ""),IF(ISTEXT(Permissions!G17), _xlfn.CONCAT(Permissions!G$4, ","), ""),IF(ISTEXT(Permissions!H17), _xlfn.CONCAT(Permissions!H$4, ","), "")), LEN(_xlfn.CONCAT(IF(ISTEXT(Permissions!D17), _xlfn.CONCAT(Permissions!D$4, ","), ""), IF(ISTEXT(Permissions!E17), _xlfn.CONCAT(Permissions!E$4, ","), ""),IF(ISTEXT(Permissions!F17), _xlfn.CONCAT(Permissions!F$4, ","), ""),IF(ISTEXT(Permissions!G17), _xlfn.CONCAT(Permissions!G$4, ","), ""),IF(ISTEXT(Permissions!H17), _xlfn.CONCAT(Permissions!H$4, ","), ""))) - 1) -> Doc_Mgr_IT_Admin,QA_Testing | D13: =LEFT(_xlfn.CONCAT(IF(ISTEXT(Permissions!J17), _xlfn.CONCAT(Permissions!J$4, ","), ""), IF(ISTEXT(Permissions!K17), _xlfn.CONCAT(Permissions!K$4, ","), ""),IF(ISTEXT(Permissions!L17), _xlfn.CONCAT(Permissions!L$4, ","), ""),IF(ISTEXT(Permissions!M17), _xlfn.CONCAT(Permissions!M$4, ","), ""),IF(ISTEXT(Permissions!N17), _xlfn.CONCAT(Permissions!N$4, ","), "")), LEN(_xlfn.CONCAT(IF(ISTEXT(Permissions!J17), _xlfn.CONCAT(Permissions!J$4, ","), ""), IF(ISTEXT(Permissions!K17), _xlfn.CONCAT(Permissions!K$4, ","), ""),IF(ISTEXT(Permissions!L17), _xlfn.CONCAT(Permissions!L$4, ","), ""),IF(ISTEXT(Permissions!M17), _xlfn.CONCAT(Permissions!M$4, ","), ""),IF(ISTEXT(Permissions!N17), _xlfn.CONCAT(Permissions!N$4, ","), ""))) - 1) -> Doc_Mgr_Bus_Admin,Doc_Mgr_IT_Admin | E13: =LEFT(_xlfn.CONCAT(IF(ISTEXT(Permissions!P17), _xlfn.CONCAT(Permissions!P$4, ","), ""), IF(ISTEXT(Permissions!Q17), _xlfn.CONCAT(Permissions!Q$4, ","), ""),IF(ISTEXT(Permissions!R17), _xlfn.CONCAT(Permissions!R$4, ","), ""),IF(ISTEXT(Permissions!S17), _xlfn.CONCAT(Permissions!S$4, ","), ""),IF(ISTEXT(Permissions!T17), _xlfn.CONCAT(Permissions!T$4, ","), "")), LEN(_xlfn.CONCAT(IF(ISTEXT(Permissions!P17), _xlfn.CONCAT(Permissions!P$4, ","), ""), IF(ISTEXT(Permissions!Q17), _xlfn.CONCAT(Permissions!Q$4, ","), ""),IF(ISTEXT(Permissions!R17), _xlfn.CONCAT(Permissions!R$4, ","), ""),IF(ISTEXT(Permissions!S17), _xlfn.CONCAT(Permissions!S$4, ","), ""),IF(ISTEXT(Permissions!T17), _xlfn.CONCAT(Permissions!T$4, ","), ""))) - 1) -> Doc_Mgr_IT_Admin
A15: ITReprocessingTable | B15: =IF(ISTEXT(Permissions!A$19), _xlfn.CONCAT("Security.AccessPolicies.",Permissions!A$19,IF(Permissions!B19 = "View", "", _xlfn.CONCAT(".", Permissions!B19)),".Groups"), "") -> Security.AccessPolicies.ITReprocessingTable.Groups | C15: =LEFT(_xlfn.CONCAT(IF(ISTEXT(Permissions!D19), _xlfn.CONCAT(Permissions!D$4, ","), ""), IF(ISTEXT(Permissions!E19), _xlfn.CONCAT(Permissions!E$4, ","), ""),IF(ISTEXT(Permissions!F19), _xlfn.CONCAT(Permissions!F$4, ","), ""),IF(ISTEXT(Permissions!G19), _xlfn.CONCAT(Permissions!G$4, ","), ""),IF(ISTEXT(Permissions!H19), _xlfn.CONCAT(Permissions!H$4, ","), "")), LEN(_xlfn.CONCAT(IF(ISTEXT(Permissions!D19), _xlfn.CONCAT(Permissions!D$4, ","), ""), IF(ISTEXT(Permissions!E19), _xlfn.CONCAT(Permissions!E$4, ","), ""),IF(ISTEXT(Permissions!F19), _xlfn.CONCAT(Permissions!F$4, ","), ""),IF(ISTEXT(Permissions!G19), _xlfn.CONCAT(Permissions!G$4, ","), ""),IF(ISTEXT(Permissions!H19), _xlfn.CONCAT(Permissions!H$4, ","), ""))) - 1) -> Doc_Mgr_IT_Admin,QA_Testing | D15: =LEFT(_xlfn.CONCAT(IF(ISTEXT(Permissions!J19), _xlfn.CONCAT(Permissions!J$4, ","), ""), IF(ISTEXT(Permissions!K19), _xlfn.CONCAT(Permissions!K$4, ","), ""),IF(ISTEXT(Permissions!L19), _xlfn.CONCAT(Permissions!L$4, ","), ""),IF(ISTEXT(Permissions!M19), _xlfn.CONCAT(Permissions!M$4, ","), ""),IF(ISTEXT(Permissions!N19), _xlfn.CONCAT(Permissions!N$4, ","), "")), LEN(_xlfn.CONCAT(IF(ISTEXT(Permissions!J19), _xlfn.CONCAT(Permissions!J$4, ","), ""), IF(ISTEXT(Permissions!K19), _xlfn.CONCAT(Permissions!K$4, ","), ""),IF(ISTEXT(Permissions!L19), _xlfn.CONCAT(Permissions!L$4, ","), ""),IF(ISTEXT(Permissions!M19), _xlfn.CONCAT(Permissions!M$4, ","), ""),IF(ISTEXT(Permissions!N19), _xlfn.CONCAT(Permissions!N$4, ","), ""))) - 1) -> Doc_Mgr_IT_Admin | E15: =LEFT(_xlfn.CONCAT(IF(ISTEXT(Permissions!P19), _xlfn.CONCAT(Permissions!P$4, ","), ""), IF(ISTEXT(Permissions!Q19), _xlfn.CONCAT(Permissions!Q$4, ","), ""),IF(ISTEXT(Permissions!R19), _xlfn.CONCAT(Permissions!R$4, ","), ""),IF(ISTEXT(Permissions!S19), _xlfn.CONCAT(Permissions!S$4, ","), ""),IF(ISTEXT(Permissions!T19), _xlfn.CONCAT(Permissions!T$4, ","), "")), LEN(_xlfn.CONCAT(IF(ISTEXT(Permissions!P19), _xlfn.CONCAT(Permissions!P$4, ","), ""), IF(ISTEXT(Permissions!Q19), _xlfn.CONCAT(Permissions!Q$4, ","), ""),IF(ISTEXT(Permissions!R19), _xlfn.CONCAT(Permissions!R$4, ","), ""),IF(ISTEXT(Permissions!S19), _xlfn.CONCAT(Permissions!S$4, ","), ""),IF(ISTEXT(Permissions!T19), _xlfn.CONCAT(Permissions!T$4, ","), ""))) - 1) -> Doc_Mgr_IT_Admin
B16: =IF(ISTEXT(Permissions!A$19), _xlfn.CONCAT("Security.AccessPolicies.",Permissions!A$19,IF(Permissions!B20 = "View", "", _xlfn.CONCAT(".", Permissions!B20)),".Groups"), "") -> Security.AccessPolicies.ITReprocessingTable.Reprocess.Groups | C16: =LEFT(_xlfn.CONCAT(IF(ISTEXT(Permissions!D20), _xlfn.CONCAT(Permissions!D$4, ","), ""), IF(ISTEXT(Permissions!E20), _xlfn.CONCAT(Permissions!E$4, ","), ""),IF(ISTEXT(Permissions!F20), _xlfn.CONCAT(Permissions!F$4, ","), ""),IF(ISTEXT(Permissions!G20), _xlfn.CONCAT(Permissions!G$4, ","), ""),IF(ISTEXT(Permissions!H20), _xlfn.CONCAT(Permissions!H$4, ","), "")), LEN(_xlfn.CONCAT(IF(ISTEXT(Permissions!D20), _xlfn.CONCAT(Permissions!D$4, ","), ""), IF(ISTEXT(Permissions!E20), _xlfn.CONCAT(Permissions!E$4, ","), ""),IF(ISTEXT(Permissions!F20), _xlfn.CONCAT(Permissions!F$4, ","), ""),IF(ISTEXT(Permissions!G20), _xlfn.CONCAT(Permissions!G$4, ","), ""),IF(ISTEXT(Permissions!H20), _xlfn.CONCAT(Permissions!H$4, ","), ""))) - 1) -> Doc_Mgr_IT_Admin,QA_Testing | D16: =LEFT(_xlfn.CONCAT(IF(ISTEXT(Permissions!J20), _xlfn.CONCAT(Permissions!J$4, ","), ""), IF(ISTEXT(Permissions!K20), _xlfn.CONCAT(Permissions!K$4, ","), ""),IF(ISTEXT(Permissions!L20), _xlfn.CONCAT(Permissions!L$4, ","), ""),IF(ISTEXT(Permissions!M20), _xlfn.CONCAT(Permissions!M$4, ","), ""),IF(ISTEXT(Permissions!N20), _xlfn.CONCAT(Permissions!N$4, ","), "")), LEN(_xlfn.CONCAT(IF(ISTEXT(Permissions!J20), _xlfn.CONCAT(Permissions!J$4, ","), ""), IF(ISTEXT(Permissions!K20), _xlfn.CONCAT(Permissions!K$4, ","), ""),IF(ISTEXT(Permissions!L20), _xlfn.CONCAT(Permissions!L$4, ","), ""),IF(ISTEXT(Permissions!M20), _xlfn.CONCAT(Permissions!M$4, ","), ""),IF(ISTEXT(Permissions!N20), _xlfn.CONCAT(Permissions!N$4, ","), ""))) - 1) -> Doc_Mgr_IT_Admin | E16: =LEFT(_xlfn.CONCAT(IF(ISTEXT(Permissions!P20), _xlfn.CONCAT(Permissions!P$4, ","), ""), IF(ISTEXT(Permissions!Q20), _xlfn.CONCAT(Permissions!Q$4, ","), ""),IF(ISTEXT(Permissions!R20), _xlfn.CONCAT(Permissions!R$4, ","), ""),IF(ISTEXT(Permissions!S20), _xlfn.CONCAT(Permissions!S$4, ","), ""),IF(ISTEXT(Permissions!T20), _xlfn.CONCAT(Permissions!T$4, ","), "")), LEN(_xlfn.CONCAT(IF(ISTEXT(Permissions!P20), _xlfn.CONCAT(Permissions!P$4, ","), ""), IF(ISTEXT(Permissions!Q20), _xlfn.CONCAT(Permissions!Q$4, ","), ""),IF(ISTEXT(Permissions!R20), _xlfn.CONCAT(Permissions!R$4, ","), ""),IF(ISTEXT(Permissions!S20), _xlfn.CONCAT(Permissions!S$4, ","), ""),IF(ISTEXT(Permissions!T20), _xlfn.CONCAT(Permissions!T$4, ","), ""))) - 1) -> Doc_Mgr_IT_Admin
A18: DocumentTypeRetriever | B18: =IF(ISTEXT(Permissions!A$22), _xlfn.CONCAT("Security.", Permissions!B22), "") -> Security.ITRole | C18: =LEFT(_xlfn.CONCAT(IF(ISTEXT(Permissions!D22), _xlfn.CONCAT(Permissions!D$4, ","), ""), IF(ISTEXT(Permissions!E22), _xlfn.CONCAT(Permissions!E$4, ","), ""),IF(ISTEXT(Permissions!F22), _xlfn.CONCAT(Permissions!F$4, ","), ""),IF(ISTEXT(Permissions!G22), _xlfn.CONCAT(Permissions!G$4, ","), ""),IF(ISTEXT(Permissions!H22), _xlfn.CONCAT(Permissions!H$4, ","), "")), LEN(_xlfn.CONCAT(IF(ISTEXT(Permissions!D22), _xlfn.CONCAT(Permissions!D$4, ","), ""), IF(ISTEXT(Permissions!E22), _xlfn.CONCAT(Permissions!E$4, ","), ""),IF(ISTEXT(Permissions!F22), _xlfn.CONCAT(Permissions!F$4, ","), ""),IF(ISTEXT(Permissions!G22), _xlfn.CONCAT(Permissions!G$4, ","), ""),IF(ISTEXT(Permissions!H22), _xlfn.CONCAT(Permissions!H$4, ","), ""))) - 1) -> Doc_Mgr_IT_Admin,QA_Testing | D18: =LEFT(_xlfn.CONCAT(IF(ISTEXT(Permissions!J22), _xlfn.CONCAT(Permissions!J$4, ","), ""), IF(ISTEXT(Permissions!K22), _xlfn.CONCAT(Permissions!K$4, ","), ""),IF(ISTEXT(Permissions!L22), _xlfn.CONCAT(Permissions!L$4, ","), ""),IF(ISTEXT(Permissions!M22), _xlfn.CONCAT(Permissions!M$4, ","), ""),IF(ISTEXT(Permissions!N22), _xlfn.CONCAT(Permissions!N$4, ","), "")), LEN(_xlfn.CONCAT(IF(ISTEXT(Permissions!J22), _xlfn.CONCAT(Permissions!J$4, ","), ""), IF(ISTEXT(Permissions!K22), _xlfn.CONCAT(Permissions!K$4, ","), ""),IF(ISTEXT(Permissions!L22), _xlfn.CONCAT(Permissions!L$4, ","), ""),IF(ISTEXT(Permissions!M22), _xlfn.CONCAT(Permissions!M$4, ","), ""),IF(ISTEXT(Permissions!N22), _xlfn.CONCAT(Permissions!N$4, ","), ""))) - 1) -> Doc_Mgr_IT_Admin | E18: =LEFT(_xlfn.CONCAT(IF(ISTEXT(Permissions!P22), _xlfn.CONCAT(Permissions!P$4, ","), ""), IF(ISTEXT(Permissions!Q22), _xlfn.CONCAT(Permissions!Q$4, ","), ""),IF(ISTEXT(Permissions!R22), _xlfn.CONCAT(Permissions!R$4, ","), ""),IF(ISTEXT(Permissions!S22), _xlfn.CONCAT(Permissions!S$4, ","), ""),IF(ISTEXT(Permissions!T22), _xlfn.CONCAT(Permissions!T$4, ","), "")), LEN(_xlfn.CONCAT(IF(ISTEXT(Permissions!P22), _xlfn.CONCAT(Permissions!P$4, ","), ""), IF(ISTEXT(Permissions!Q22), _xlfn.CONCAT(Permissions!Q$4, ","), ""),IF(ISTEXT(Permissions!R22), _xlfn.CONCAT(Permissions!R$4, ","), ""),IF(ISTEXT(Permissions!S22), _xlfn.CONCAT(Permissions!S$4, ","), ""),IF(ISTEXT(Permissions!T22), _xlfn.CONCAT(Permissions!T$4, ","), ""))) - 1) -> Doc_Mgr_IT_Admin
B19: =IF(ISTEXT(Permissions!A$22), _xlfn.CONCAT("Security.", Permissions!B23), "") -> Security.QCRole | C19: =LEFT(_xlfn.CONCAT(IF(ISTEXT(Permissions!D23), _xlfn.CONCAT(Permissions!D$4, ","), ""), IF(ISTEXT(Permissions!E23), _xlfn.CONCAT(Permissions!E$4, ","), ""),IF(ISTEXT(Permissions!F23), _xlfn.CONCAT(Permissions!F$4, ","), ""),IF(ISTEXT(Permissions!G23), _xlfn.CONCAT(Permissions!G$4, ","), ""),IF(ISTEXT(Permissions!H23), _xlfn.CONCAT(Permissions!H$4, ","), "")), LEN(_xlfn.CONCAT(IF(ISTEXT(Permissions!D23), _xlfn.CONCAT(Permissions!D$4, ","), ""), IF(ISTEXT(Permissions!E23), _xlfn.CONCAT(Permissions!E$4, ","), ""),IF(ISTEXT(Permissions!F23), _xlfn.CONCAT(Permissions!F$4, ","), ""),IF(ISTEXT(Permissions!G23), _xlfn.CONCAT(Permissions!G$4, ","), ""),IF(ISTEXT(Permissions!H23), _xlfn.CONCAT(Permissions!H$4, ","), ""))) - 1) -> Doc_Mgr_IT_Admin,QA_Testing | D19: =LEFT(_xlfn.CONCAT(IF(ISTEXT(Permissions!J23), _xlfn.CONCAT(Permissions!J$4, ","), ""), IF(ISTEXT(Permissions!K23), _xlfn.CONCAT(Permissions!K$4, ","), ""),IF(ISTEXT(Permissions!L23), _xlfn.CONCAT(Permissions!L$4, ","), ""),IF(ISTEXT(Permissions!M23), _xlfn.CONCAT(Permissions!M$4, ","), ""),IF(ISTEXT(Permissions!N23), _xlfn.CONCAT(Permissions!N$4, ","), "")), LEN(_xlfn.CONCAT(IF(ISTEXT(Permissions!J23), _xlfn.CONCAT(Permissions!J$4, ","), ""), IF(ISTEXT(Permissions!K23), _xlfn.CONCAT(Permissions!K$4, ","), ""),IF(ISTEXT(Permissions!L23), _xlfn.CONCAT(Permissions!L$4, ","), ""),IF(ISTEXT(Permissions!M23), _xlfn.CONCAT(Permissions!M$4, ","), ""),IF(ISTEXT(Permissions!N23), _xlfn.CONCAT(Permissions!N$4, ","), ""))) - 1) -> Doc_Mgr_Bus_Admin,Doc_Mgr_IT_Admin | E19: =LEFT(_xlfn.CONCAT(IF(ISTEXT(Permissions!P23), _xlfn.CONCAT(Permissions!P$4, ","), ""), IF(ISTEXT(Permissions!Q23), _xlfn.CONCAT(Permissions!Q$4, ","), ""),IF(ISTEXT(Permissions!R23), _xlfn.CONCAT(Permissions!R$4, ","), ""),IF(ISTEXT(Permissions!S23), _xlfn.CONCAT(Permissions!S$4, ","), ""),IF(ISTEXT(Permissions!T23), _xlfn.CONCAT(Permissions!T$4, ","), "")), LEN(_xlfn.CONCAT(IF(ISTEXT(Permissions!P23), _xlfn.CONCAT(Permissions!P$4, ","), ""), IF(ISTEXT(Permissions!Q23), _xlfn.CONCAT(Permissions!Q$4, ","), ""),IF(ISTEXT(Permissions!R23), _xlfn.CONCAT(Permissions!R$4, ","), ""),IF(ISTEXT(Permissions!S23), _xlfn.CONCAT(Permissions!S$4, ","), ""),IF(ISTEXT(Permissions!T23), _xlfn.CONCAT(Permissions!T$4, ","), ""))) - 1) -> Doc_Mgr_Bus_Admin,Doc_Mgr_IT_Admin
A21: DocumentTypeUploader | B21: =IF(ISTEXT(Permissions!A$22), _xlfn.CONCAT("Security.", Permissions!B25), "") -> Security.ITRole | C21: =LEFT(_xlfn.CONCAT(IF(ISTEXT(Permissions!D25), _xlfn.CONCAT(Permissions!D$4, ","), ""), IF(ISTEXT(Permissions!E25), _xlfn.CONCAT(Permissions!E$4, ","), ""),IF(ISTEXT(Permissions!F25), _xlfn.CONCAT(Permissions!F$4, ","), ""),IF(ISTEXT(Permissions!G25), _xlfn.CONCAT(Permissions!G$4, ","), ""),IF(ISTEXT(Permissions!H25), _xlfn.CONCAT(Permissions!H$4, ","), "")), LEN(_xlfn.CONCAT(IF(ISTEXT(Permissions!D25), _xlfn.CONCAT(Permissions!D$4, ","), ""), IF(ISTEXT(Permissions!E25), _xlfn.CONCAT(Permissions!E$4, ","), ""),IF(ISTEXT(Permissions!F25), _xlfn.CONCAT(Permissions!F$4, ","), ""),IF(ISTEXT(Permissions!G25), _xlfn.CONCAT(Permissions!G$4, ","), ""),IF(ISTEXT(Permissions!H25), _xlfn.CONCAT(Permissions!H$4, ","), ""))) - 1) -> Doc_Mgr_IT_Admin,QA_Testing | D21: =LEFT(_xlfn.CONCAT(IF(ISTEXT(Permissions!J25), _xlfn.CONCAT(Permissions!J$4, ","), ""), IF(ISTEXT(Permissions!K25), _xlfn.CONCAT(Permissions!K$4, ","), ""),IF(ISTEXT(Permissions!L25), _xlfn.CONCAT(Permissions!L$4, ","), ""),IF(ISTEXT(Permissions!M25), _xlfn.CONCAT(Permissions!M$4, ","), ""),IF(ISTEXT(Permissions!N25), _xlfn.CONCAT(Permissions!N$4, ","), "")), LEN(_xlfn.CONCAT(IF(ISTEXT(Permissions!J25), _xlfn.CONCAT(Permissions!J$4, ","), ""), IF(ISTEXT(Permissions!K25), _xlfn.CONCAT(Permissions!K$4, ","), ""),IF(ISTEXT(Permissions!L25), _xlfn.CONCAT(Permissions!L$4, ","), ""),IF(ISTEXT(Permissions!M25), _xlfn.CONCAT(Permissions!M$4, ","), ""),IF(ISTEXT(Permissions!N25), _xlfn.CONCAT(Permissions!N$4, ","), ""))) - 1) -> Doc_Mgr_IT_Admin | E21: =LEFT(_xlfn.CONCAT(IF(ISTEXT(Permissions!P25), _xlfn.CONCAT(Permissions!P$4, ","), ""), IF(ISTEXT(Permissions!Q25), _xlfn.CONCAT(Permissions!Q$4, ","), ""),IF(ISTEXT(Permissions!R25), _xlfn.CONCAT(Permissions!R$4, ","), ""),IF(ISTEXT(Permissions!S25), _xlfn.CONCAT(Permissions!S$4, ","), ""),IF(ISTEXT(Permissions!T25), _xlfn.CONCAT(Permissions!T$4, ","), "")), LEN(_xlfn.CONCAT(IF(ISTEXT(Permissions!P25), _xlfn.CONCAT(Permissions!P$4, ","), ""), IF(ISTEXT(Permissions!Q25), _xlfn.CONCAT(Permissions!Q$4, ","), ""),IF(ISTEXT(Permissions!R25), _xlfn.CONCAT(Permissions!R$4, ","), ""),IF(ISTEXT(Permissions!S25), _xlfn.CONCAT(Permissions!S$4, ","), ""),IF(ISTEXT(Permissions!T25), _xlfn.CONCAT(Permissions!T$4, ","), ""))) - 1) -> Doc_Mgr_IT_Admin
